BEGIN:VCALENDAR
VERSION:2.0
BEGIN:VEVENT
URL:https://ranbandassoc.net/members/events/viewevent/51-soundwaves-concert-10th-april-2013 
DTSTART:20130410T193000
DTEND:20130410T210000
SUMMARY:Soundwaves Concert 10th April 2013
DESCRIPTION:<p>Soundwaves Concert</p>
<p>April will be upon us soon enough and another excellent concert will be put on by the Royal Australian Navy Melbourne Detachment.</p>
<p>Start time as usual is 7.30pm at the Band Auditorium, HMAS Cerberus. Make sure you have identification to get onto the Depot.</p>
<p>This concert will feature the Concert Band.</p>
LOCATION:Crib Point, Vctoris
END:VEVENT
END:VCALENDAR